BEGIN:VCALENDAR
VERSION:2.0
PRODID:-//Capitol Hill Healthcare - ECPv6.15.20//NONSGML v1.0//EN
CALSCALE:GREGORIAN
METHOD:PUBLISH
X-ORIGINAL-URL:https://capitolhillcares.com
X-WR-CALDESC:Events for Capitol Hill Healthcare
REFRESH-INTERVAL;VALUE=DURATION:PT1H
X-Robots-Tag:noindex
X-PUBLISHED-TTL:PT1H
BEGIN:VTIMEZONE
TZID:America/Chicago
BEGIN:DAYLIGHT
TZOFFSETFROM:-0600
TZOFFSETTO:-0500
TZNAME:CDT
DTSTART:20290311T080000
END:DAYLIGHT
BEGIN:STANDARD
TZOFFSETFROM:-0500
TZOFFSETTO:-0600
TZNAME:CST
DTSTART:20291104T070000
END:STANDARD
BEGIN:DAYLIGHT
TZOFFSETFROM:-0600
TZOFFSETTO:-0500
TZNAME:CDT
DTSTART:20300310T080000
END:DAYLIGHT
BEGIN:STANDARD
TZOFFSETFROM:-0500
TZOFFSETTO:-0600
TZNAME:CST
DTSTART:20301103T070000
END:STANDARD
BEGIN:DAYLIGHT
TZOFFSETFROM:-0600
TZOFFSETTO:-0500
TZNAME:CDT
DTSTART:20310309T080000
END:DAYLIGHT
BEGIN:STANDARD
TZOFFSETFROM:-0500
TZOFFSETTO:-0600
TZNAME:CST
DTSTART:20311102T070000
END:STANDARD
END:VTIMEZONE
BEGIN:VEVENT
DTSTART;TZID=America/Chicago:20300602T130000
DTEND;TZID=America/Chicago:20300602T130000
DTSTAMP:20260422T123619
CREATED:20251001T152417Z
LAST-MODIFIED:20251001T152417Z
UID:10011316-1906635600-1906635600@capitolhillcares.com
SUMMARY:Gospel Explosion
DESCRIPTION:
URL:https://capitolhillcares.com/activity/gospel-explosion-3/2030-06-02/
LOCATION:Capitol Hill Healthcare\, 520 S Hull Street\, Montgomery\, 36104\, United States
GEO:32.3713424;-86.3039176
X-APPLE-STRUCTURED-LOCATION;VALUE=URI;X-ADDRESS=Capitol Hill Healthcare 520 S Hull Street Montgomery 36104 United States;X-APPLE-RADIUS=500;X-TITLE=520 S Hull Street:geo:-86.3039176,32.3713424
END:VEVENT
BEGIN:VEVENT
DTSTART;TZID=America/Chicago:20300604T140000
DTEND;TZID=America/Chicago:20300604T140000
DTSTAMP:20260422T123619
CREATED:20250902T191419Z
LAST-MODIFIED:20250902T210837Z
UID:10009656-1906812000-1906812000@capitolhillcares.com
SUMMARY:Bible Study with Minister Clint Walters
DESCRIPTION:
URL:https://capitolhillcares.com/activity/bible-study-with-minister-clint-j-walters-2-2-2/2030-06-04/
LOCATION:Capitol Hill Healthcare\, 520 S Hull Street\, Montgomery\, 36104\, United States
GEO:32.3713424;-86.3039176
X-APPLE-STRUCTURED-LOCATION;VALUE=URI;X-ADDRESS=Capitol Hill Healthcare 520 S Hull Street Montgomery 36104 United States;X-APPLE-RADIUS=500;X-TITLE=520 S Hull Street:geo:-86.3039176,32.3713424
END:VEVENT
BEGIN:VEVENT
DTSTART;TZID=America/Chicago:20300604T160000
DTEND;TZID=America/Chicago:20300604T160000
DTSTAMP:20260422T123619
CREATED:20251001T144949Z
LAST-MODIFIED:20251001T144949Z
UID:10010569-1906819200-1906819200@capitolhillcares.com
SUMMARY:Late Night Activity
DESCRIPTION:
URL:https://capitolhillcares.com/activity/bingo-5-2/2030-06-04/
LOCATION:Capitol Hill Healthcare\, 520 S Hull Street\, Montgomery\, 36104\, United States
GEO:32.3713424;-86.3039176
X-APPLE-STRUCTURED-LOCATION;VALUE=URI;X-ADDRESS=Capitol Hill Healthcare 520 S Hull Street Montgomery 36104 United States;X-APPLE-RADIUS=500;X-TITLE=520 S Hull Street:geo:-86.3039176,32.3713424
END:VEVENT
BEGIN:VEVENT
DTSTART;TZID=America/Chicago:20300609T130000
DTEND;TZID=America/Chicago:20300609T130000
DTSTAMP:20260422T123619
CREATED:20251001T152417Z
LAST-MODIFIED:20251001T152417Z
UID:10011317-1907240400-1907240400@capitolhillcares.com
SUMMARY:Gospel Explosion
DESCRIPTION:
URL:https://capitolhillcares.com/activity/gospel-explosion-3/2030-06-09/
LOCATION:Capitol Hill Healthcare\, 520 S Hull Street\, Montgomery\, 36104\, United States
GEO:32.3713424;-86.3039176
X-APPLE-STRUCTURED-LOCATION;VALUE=URI;X-ADDRESS=Capitol Hill Healthcare 520 S Hull Street Montgomery 36104 United States;X-APPLE-RADIUS=500;X-TITLE=520 S Hull Street:geo:-86.3039176,32.3713424
END:VEVENT
BEGIN:VEVENT
DTSTART;TZID=America/Chicago:20300611T140000
DTEND;TZID=America/Chicago:20300611T140000
DTSTAMP:20260422T123619
CREATED:20250902T191419Z
LAST-MODIFIED:20250902T210837Z
UID:10010609-1907416800-1907416800@capitolhillcares.com
SUMMARY:Bible Study with Minister Clint Walters
DESCRIPTION:
URL:https://capitolhillcares.com/activity/bible-study-with-minister-clint-j-walters-2-2-2/2030-06-11/
LOCATION:Capitol Hill Healthcare\, 520 S Hull Street\, Montgomery\, 36104\, United States
GEO:32.3713424;-86.3039176
X-APPLE-STRUCTURED-LOCATION;VALUE=URI;X-ADDRESS=Capitol Hill Healthcare 520 S Hull Street Montgomery 36104 United States;X-APPLE-RADIUS=500;X-TITLE=520 S Hull Street:geo:-86.3039176,32.3713424
END:VEVENT
BEGIN:VEVENT
DTSTART;TZID=America/Chicago:20300611T160000
DTEND;TZID=America/Chicago:20300611T160000
DTSTAMP:20260422T123619
CREATED:20251001T144949Z
LAST-MODIFIED:20251001T144949Z
UID:10010665-1907424000-1907424000@capitolhillcares.com
SUMMARY:Late Night Activity
DESCRIPTION:
URL:https://capitolhillcares.com/activity/bingo-5-2/2030-06-11/
LOCATION:Capitol Hill Healthcare\, 520 S Hull Street\, Montgomery\, 36104\, United States
GEO:32.3713424;-86.3039176
X-APPLE-STRUCTURED-LOCATION;VALUE=URI;X-ADDRESS=Capitol Hill Healthcare 520 S Hull Street Montgomery 36104 United States;X-APPLE-RADIUS=500;X-TITLE=520 S Hull Street:geo:-86.3039176,32.3713424
END:VEVENT
BEGIN:VEVENT
DTSTART;TZID=America/Chicago:20300616T130000
DTEND;TZID=America/Chicago:20300616T130000
DTSTAMP:20260422T123619
CREATED:20251001T152417Z
LAST-MODIFIED:20251001T152417Z
UID:10011318-1907845200-1907845200@capitolhillcares.com
SUMMARY:Gospel Explosion
DESCRIPTION:
URL:https://capitolhillcares.com/activity/gospel-explosion-3/2030-06-16/
LOCATION:Capitol Hill Healthcare\, 520 S Hull Street\, Montgomery\, 36104\, United States
GEO:32.3713424;-86.3039176
X-APPLE-STRUCTURED-LOCATION;VALUE=URI;X-ADDRESS=Capitol Hill Healthcare 520 S Hull Street Montgomery 36104 United States;X-APPLE-RADIUS=500;X-TITLE=520 S Hull Street:geo:-86.3039176,32.3713424
END:VEVENT
BEGIN:VEVENT
DTSTART;TZID=America/Chicago:20300618T140000
DTEND;TZID=America/Chicago:20300618T140000
DTSTAMP:20260422T123619
CREATED:20250902T191419Z
LAST-MODIFIED:20250902T210837Z
UID:10010614-1908021600-1908021600@capitolhillcares.com
SUMMARY:Bible Study with Minister Clint Walters
DESCRIPTION:
URL:https://capitolhillcares.com/activity/bible-study-with-minister-clint-j-walters-2-2-2/2030-06-18/
LOCATION:Capitol Hill Healthcare\, 520 S Hull Street\, Montgomery\, 36104\, United States
GEO:32.3713424;-86.3039176
X-APPLE-STRUCTURED-LOCATION;VALUE=URI;X-ADDRESS=Capitol Hill Healthcare 520 S Hull Street Montgomery 36104 United States;X-APPLE-RADIUS=500;X-TITLE=520 S Hull Street:geo:-86.3039176,32.3713424
END:VEVENT
BEGIN:VEVENT
DTSTART;TZID=America/Chicago:20300618T160000
DTEND;TZID=America/Chicago:20300618T160000
DTSTAMP:20260422T123619
CREATED:20251001T144949Z
LAST-MODIFIED:20251001T144949Z
UID:10010666-1908028800-1908028800@capitolhillcares.com
SUMMARY:Late Night Activity
DESCRIPTION:
URL:https://capitolhillcares.com/activity/bingo-5-2/2030-06-18/
LOCATION:Capitol Hill Healthcare\, 520 S Hull Street\, Montgomery\, 36104\, United States
GEO:32.3713424;-86.3039176
X-APPLE-STRUCTURED-LOCATION;VALUE=URI;X-ADDRESS=Capitol Hill Healthcare 520 S Hull Street Montgomery 36104 United States;X-APPLE-RADIUS=500;X-TITLE=520 S Hull Street:geo:-86.3039176,32.3713424
END:VEVENT
BEGIN:VEVENT
DTSTART;TZID=America/Chicago:20300623T130000
DTEND;TZID=America/Chicago:20300623T130000
DTSTAMP:20260422T123619
CREATED:20251001T152417Z
LAST-MODIFIED:20251001T152417Z
UID:10011319-1908450000-1908450000@capitolhillcares.com
SUMMARY:Gospel Explosion
DESCRIPTION:
URL:https://capitolhillcares.com/activity/gospel-explosion-3/2030-06-23/
LOCATION:Capitol Hill Healthcare\, 520 S Hull Street\, Montgomery\, 36104\, United States
GEO:32.3713424;-86.3039176
X-APPLE-STRUCTURED-LOCATION;VALUE=URI;X-ADDRESS=Capitol Hill Healthcare 520 S Hull Street Montgomery 36104 United States;X-APPLE-RADIUS=500;X-TITLE=520 S Hull Street:geo:-86.3039176,32.3713424
END:VEVENT
BEGIN:VEVENT
DTSTART;TZID=America/Chicago:20300625T140000
DTEND;TZID=America/Chicago:20300625T140000
DTSTAMP:20260422T123619
CREATED:20250903T192147Z
LAST-MODIFIED:20250903T192147Z
UID:10010617-1908626400-1908626400@capitolhillcares.com
SUMMARY:Resident Council Meeting
DESCRIPTION:
URL:https://capitolhillcares.com/activity/resident-council-meeting-3-2/2030-06-25/
LOCATION:Capitol Hill Healthcare\, 520 S Hull Street\, Montgomery\, 36104\, United States
GEO:32.3713424;-86.3039176
X-APPLE-STRUCTURED-LOCATION;VALUE=URI;X-ADDRESS=Capitol Hill Healthcare 520 S Hull Street Montgomery 36104 United States;X-APPLE-RADIUS=500;X-TITLE=520 S Hull Street:geo:-86.3039176,32.3713424
END:VEVENT
BEGIN:VEVENT
DTSTART;TZID=America/Chicago:20300625T160000
DTEND;TZID=America/Chicago:20300625T160000
DTSTAMP:20260422T123619
CREATED:20251001T144949Z
LAST-MODIFIED:20251001T144949Z
UID:10010667-1908633600-1908633600@capitolhillcares.com
SUMMARY:Late Night Activity
DESCRIPTION:
URL:https://capitolhillcares.com/activity/bingo-5-2/2030-06-25/
LOCATION:Capitol Hill Healthcare\, 520 S Hull Street\, Montgomery\, 36104\, United States
GEO:32.3713424;-86.3039176
X-APPLE-STRUCTURED-LOCATION;VALUE=URI;X-ADDRESS=Capitol Hill Healthcare 520 S Hull Street Montgomery 36104 United States;X-APPLE-RADIUS=500;X-TITLE=520 S Hull Street:geo:-86.3039176,32.3713424
END:VEVENT
BEGIN:VEVENT
DTSTART;TZID=America/Chicago:20300630T130000
DTEND;TZID=America/Chicago:20300630T130000
DTSTAMP:20260422T123619
CREATED:20251001T152417Z
LAST-MODIFIED:20251001T152417Z
UID:10011320-1909054800-1909054800@capitolhillcares.com
SUMMARY:Gospel Explosion
DESCRIPTION:
URL:https://capitolhillcares.com/activity/gospel-explosion-3/2030-06-30/
LOCATION:Capitol Hill Healthcare\, 520 S Hull Street\, Montgomery\, 36104\, United States
GEO:32.3713424;-86.3039176
X-APPLE-STRUCTURED-LOCATION;VALUE=URI;X-ADDRESS=Capitol Hill Healthcare 520 S Hull Street Montgomery 36104 United States;X-APPLE-RADIUS=500;X-TITLE=520 S Hull Street:geo:-86.3039176,32.3713424
END:VEVENT
END:VCALENDAR