BEGIN:VCALENDAR
VERSION:2.0
PRODID:-//Capitol Hill Healthcare - ECPv6.15.20//NONSGML v1.0//EN
CALSCALE:GREGORIAN
METHOD:PUBLISH
X-WR-CALNAME:Capitol Hill Healthcare
X-ORIGINAL-URL:https://capitolhillcares.com
X-WR-CALDESC:Events for Capitol Hill Healthcare
REFRESH-INTERVAL;VALUE=DURATION:PT1H
X-Robots-Tag:noindex
X-PUBLISHED-TTL:PT1H
BEGIN:VTIMEZONE
TZID:America/Chicago
BEGIN:DAYLIGHT
TZOFFSETFROM:-0600
TZOFFSETTO:-0500
TZNAME:CDT
DTSTART:20290311T080000
END:DAYLIGHT
BEGIN:STANDARD
TZOFFSETFROM:-0500
TZOFFSETTO:-0600
TZNAME:CST
DTSTART:20291104T070000
END:STANDARD
BEGIN:DAYLIGHT
TZOFFSETFROM:-0600
TZOFFSETTO:-0500
TZNAME:CDT
DTSTART:20300310T080000
END:DAYLIGHT
BEGIN:STANDARD
TZOFFSETFROM:-0500
TZOFFSETTO:-0600
TZNAME:CST
DTSTART:20301103T070000
END:STANDARD
BEGIN:DAYLIGHT
TZOFFSETFROM:-0600
TZOFFSETTO:-0500
TZNAME:CDT
DTSTART:20310309T080000
END:DAYLIGHT
BEGIN:STANDARD
TZOFFSETFROM:-0500
TZOFFSETTO:-0600
TZNAME:CST
DTSTART:20311102T070000
END:STANDARD
END:VTIMEZONE
BEGIN:VEVENT
DTSTART;TZID=America/Chicago:20300402T140000
DTEND;TZID=America/Chicago:20300402T140000
DTSTAMP:20260422T071722
CREATED:20250902T191419Z
LAST-MODIFIED:20250902T210837Z
UID:10009543-1901368800-1901368800@capitolhillcares.com
SUMMARY:Bible Study with Minister Clint Walters
DESCRIPTION:
URL:https://capitolhillcares.com/activity/bible-study-with-minister-clint-j-walters-2-2-2/2030-04-02/
LOCATION:Capitol Hill Healthcare\, 520 S Hull Street\, Montgomery\, 36104\, United States
GEO:32.3713424;-86.3039176
X-APPLE-STRUCTURED-LOCATION;VALUE=URI;X-ADDRESS=Capitol Hill Healthcare 520 S Hull Street Montgomery 36104 United States;X-APPLE-RADIUS=500;X-TITLE=520 S Hull Street:geo:-86.3039176,32.3713424
END:VEVENT
BEGIN:VEVENT
DTSTART;TZID=America/Chicago:20300402T160000
DTEND;TZID=America/Chicago:20300402T160000
DTSTAMP:20260422T071722
CREATED:20251001T144949Z
LAST-MODIFIED:20251001T144949Z
UID:10010560-1901376000-1901376000@capitolhillcares.com
SUMMARY:Late Night Activity
DESCRIPTION:
URL:https://capitolhillcares.com/activity/bingo-5-2/2030-04-02/
LOCATION:Capitol Hill Healthcare\, 520 S Hull Street\, Montgomery\, 36104\, United States
GEO:32.3713424;-86.3039176
X-APPLE-STRUCTURED-LOCATION;VALUE=URI;X-ADDRESS=Capitol Hill Healthcare 520 S Hull Street Montgomery 36104 United States;X-APPLE-RADIUS=500;X-TITLE=520 S Hull Street:geo:-86.3039176,32.3713424
END:VEVENT
BEGIN:VEVENT
DTSTART;TZID=America/Chicago:20300407T130000
DTEND;TZID=America/Chicago:20300407T130000
DTSTAMP:20260422T071722
CREATED:20251001T152417Z
LAST-MODIFIED:20251001T152417Z
UID:10011308-1901797200-1901797200@capitolhillcares.com
SUMMARY:Gospel Explosion
DESCRIPTION:
URL:https://capitolhillcares.com/activity/gospel-explosion-3/2030-04-07/
LOCATION:Capitol Hill Healthcare\, 520 S Hull Street\, Montgomery\, 36104\, United States
GEO:32.3713424;-86.3039176
X-APPLE-STRUCTURED-LOCATION;VALUE=URI;X-ADDRESS=Capitol Hill Healthcare 520 S Hull Street Montgomery 36104 United States;X-APPLE-RADIUS=500;X-TITLE=520 S Hull Street:geo:-86.3039176,32.3713424
END:VEVENT
BEGIN:VEVENT
DTSTART;TZID=America/Chicago:20300409T140000
DTEND;TZID=America/Chicago:20300409T140000
DTSTAMP:20260422T071722
CREATED:20250902T191419Z
LAST-MODIFIED:20250902T210837Z
UID:10009569-1901973600-1901973600@capitolhillcares.com
SUMMARY:Bible Study with Minister Clint Walters
DESCRIPTION:
URL:https://capitolhillcares.com/activity/bible-study-with-minister-clint-j-walters-2-2-2/2030-04-09/
LOCATION:Capitol Hill Healthcare\, 520 S Hull Street\, Montgomery\, 36104\, United States
GEO:32.3713424;-86.3039176
X-APPLE-STRUCTURED-LOCATION;VALUE=URI;X-ADDRESS=Capitol Hill Healthcare 520 S Hull Street Montgomery 36104 United States;X-APPLE-RADIUS=500;X-TITLE=520 S Hull Street:geo:-86.3039176,32.3713424
END:VEVENT
BEGIN:VEVENT
DTSTART;TZID=America/Chicago:20300409T160000
DTEND;TZID=America/Chicago:20300409T160000
DTSTAMP:20260422T071722
CREATED:20251001T144949Z
LAST-MODIFIED:20251001T144949Z
UID:10010561-1901980800-1901980800@capitolhillcares.com
SUMMARY:Late Night Activity
DESCRIPTION:
URL:https://capitolhillcares.com/activity/bingo-5-2/2030-04-09/
LOCATION:Capitol Hill Healthcare\, 520 S Hull Street\, Montgomery\, 36104\, United States
GEO:32.3713424;-86.3039176
X-APPLE-STRUCTURED-LOCATION;VALUE=URI;X-ADDRESS=Capitol Hill Healthcare 520 S Hull Street Montgomery 36104 United States;X-APPLE-RADIUS=500;X-TITLE=520 S Hull Street:geo:-86.3039176,32.3713424
END:VEVENT
BEGIN:VEVENT
DTSTART;TZID=America/Chicago:20300414T130000
DTEND;TZID=America/Chicago:20300414T130000
DTSTAMP:20260422T071722
CREATED:20251001T152417Z
LAST-MODIFIED:20251001T152417Z
UID:10011309-1902402000-1902402000@capitolhillcares.com
SUMMARY:Gospel Explosion
DESCRIPTION:
URL:https://capitolhillcares.com/activity/gospel-explosion-3/2030-04-14/
LOCATION:Capitol Hill Healthcare\, 520 S Hull Street\, Montgomery\, 36104\, United States
GEO:32.3713424;-86.3039176
X-APPLE-STRUCTURED-LOCATION;VALUE=URI;X-ADDRESS=Capitol Hill Healthcare 520 S Hull Street Montgomery 36104 United States;X-APPLE-RADIUS=500;X-TITLE=520 S Hull Street:geo:-86.3039176,32.3713424
END:VEVENT
BEGIN:VEVENT
DTSTART;TZID=America/Chicago:20300416T140000
DTEND;TZID=America/Chicago:20300416T140000
DTSTAMP:20260422T071722
CREATED:20250902T191419Z
LAST-MODIFIED:20250902T210837Z
UID:10009577-1902578400-1902578400@capitolhillcares.com
SUMMARY:Bible Study with Minister Clint Walters
DESCRIPTION:
URL:https://capitolhillcares.com/activity/bible-study-with-minister-clint-j-walters-2-2-2/2030-04-16/
LOCATION:Capitol Hill Healthcare\, 520 S Hull Street\, Montgomery\, 36104\, United States
GEO:32.3713424;-86.3039176
X-APPLE-STRUCTURED-LOCATION;VALUE=URI;X-ADDRESS=Capitol Hill Healthcare 520 S Hull Street Montgomery 36104 United States;X-APPLE-RADIUS=500;X-TITLE=520 S Hull Street:geo:-86.3039176,32.3713424
END:VEVENT
BEGIN:VEVENT
DTSTART;TZID=America/Chicago:20300416T160000
DTEND;TZID=America/Chicago:20300416T160000
DTSTAMP:20260422T071722
CREATED:20251001T144949Z
LAST-MODIFIED:20251001T144949Z
UID:10010562-1902585600-1902585600@capitolhillcares.com
SUMMARY:Late Night Activity
DESCRIPTION:
URL:https://capitolhillcares.com/activity/bingo-5-2/2030-04-16/
LOCATION:Capitol Hill Healthcare\, 520 S Hull Street\, Montgomery\, 36104\, United States
GEO:32.3713424;-86.3039176
X-APPLE-STRUCTURED-LOCATION;VALUE=URI;X-ADDRESS=Capitol Hill Healthcare 520 S Hull Street Montgomery 36104 United States;X-APPLE-RADIUS=500;X-TITLE=520 S Hull Street:geo:-86.3039176,32.3713424
END:VEVENT
BEGIN:VEVENT
DTSTART;TZID=America/Chicago:20300421T130000
DTEND;TZID=America/Chicago:20300421T130000
DTSTAMP:20260422T071722
CREATED:20251001T152417Z
LAST-MODIFIED:20251001T152417Z
UID:10011310-1903006800-1903006800@capitolhillcares.com
SUMMARY:Gospel Explosion
DESCRIPTION:
URL:https://capitolhillcares.com/activity/gospel-explosion-3/2030-04-21/
LOCATION:Capitol Hill Healthcare\, 520 S Hull Street\, Montgomery\, 36104\, United States
GEO:32.3713424;-86.3039176
X-APPLE-STRUCTURED-LOCATION;VALUE=URI;X-ADDRESS=Capitol Hill Healthcare 520 S Hull Street Montgomery 36104 United States;X-APPLE-RADIUS=500;X-TITLE=520 S Hull Street:geo:-86.3039176,32.3713424
END:VEVENT
BEGIN:VEVENT
DTSTART;TZID=America/Chicago:20300423T140000
DTEND;TZID=America/Chicago:20300423T140000
DTSTAMP:20260422T071722
CREATED:20250902T191419Z
LAST-MODIFIED:20250902T210837Z
UID:10009600-1903183200-1903183200@capitolhillcares.com
SUMMARY:Bible Study with Minister Clint Walters
DESCRIPTION:
URL:https://capitolhillcares.com/activity/bible-study-with-minister-clint-j-walters-2-2-2/2030-04-23/
LOCATION:Capitol Hill Healthcare\, 520 S Hull Street\, Montgomery\, 36104\, United States
GEO:32.3713424;-86.3039176
X-APPLE-STRUCTURED-LOCATION;VALUE=URI;X-ADDRESS=Capitol Hill Healthcare 520 S Hull Street Montgomery 36104 United States;X-APPLE-RADIUS=500;X-TITLE=520 S Hull Street:geo:-86.3039176,32.3713424
END:VEVENT
BEGIN:VEVENT
DTSTART;TZID=America/Chicago:20300423T160000
DTEND;TZID=America/Chicago:20300423T160000
DTSTAMP:20260422T071722
CREATED:20251001T144949Z
LAST-MODIFIED:20251001T144949Z
UID:10010563-1903190400-1903190400@capitolhillcares.com
SUMMARY:Late Night Activity
DESCRIPTION:
URL:https://capitolhillcares.com/activity/bingo-5-2/2030-04-23/
LOCATION:Capitol Hill Healthcare\, 520 S Hull Street\, Montgomery\, 36104\, United States
GEO:32.3713424;-86.3039176
X-APPLE-STRUCTURED-LOCATION;VALUE=URI;X-ADDRESS=Capitol Hill Healthcare 520 S Hull Street Montgomery 36104 United States;X-APPLE-RADIUS=500;X-TITLE=520 S Hull Street:geo:-86.3039176,32.3713424
END:VEVENT
BEGIN:VEVENT
DTSTART;TZID=America/Chicago:20300428T130000
DTEND;TZID=America/Chicago:20300428T130000
DTSTAMP:20260422T071722
CREATED:20251001T152417Z
LAST-MODIFIED:20251001T152417Z
UID:10011311-1903611600-1903611600@capitolhillcares.com
SUMMARY:Gospel Explosion
DESCRIPTION:
URL:https://capitolhillcares.com/activity/gospel-explosion-3/2030-04-28/
LOCATION:Capitol Hill Healthcare\, 520 S Hull Street\, Montgomery\, 36104\, United States
GEO:32.3713424;-86.3039176
X-APPLE-STRUCTURED-LOCATION;VALUE=URI;X-ADDRESS=Capitol Hill Healthcare 520 S Hull Street Montgomery 36104 United States;X-APPLE-RADIUS=500;X-TITLE=520 S Hull Street:geo:-86.3039176,32.3713424
END:VEVENT
BEGIN:VEVENT
DTSTART;TZID=America/Chicago:20300430T140000
DTEND;TZID=America/Chicago:20300430T140000
DTSTAMP:20260422T071722
CREATED:20250903T192147Z
LAST-MODIFIED:20250903T192147Z
UID:10009636-1903788000-1903788000@capitolhillcares.com
SUMMARY:Resident Council Meeting
DESCRIPTION:
URL:https://capitolhillcares.com/activity/resident-council-meeting-3-2/2030-04-30/
LOCATION:Capitol Hill Healthcare\, 520 S Hull Street\, Montgomery\, 36104\, United States
GEO:32.3713424;-86.3039176
X-APPLE-STRUCTURED-LOCATION;VALUE=URI;X-ADDRESS=Capitol Hill Healthcare 520 S Hull Street Montgomery 36104 United States;X-APPLE-RADIUS=500;X-TITLE=520 S Hull Street:geo:-86.3039176,32.3713424
END:VEVENT
BEGIN:VEVENT
DTSTART;TZID=America/Chicago:20300430T160000
DTEND;TZID=America/Chicago:20300430T160000
DTSTAMP:20260422T071722
CREATED:20251001T144949Z
LAST-MODIFIED:20251001T144949Z
UID:10010564-1903795200-1903795200@capitolhillcares.com
SUMMARY:Late Night Activity
DESCRIPTION:
URL:https://capitolhillcares.com/activity/bingo-5-2/2030-04-30/
LOCATION:Capitol Hill Healthcare\, 520 S Hull Street\, Montgomery\, 36104\, United States
GEO:32.3713424;-86.3039176
X-APPLE-STRUCTURED-LOCATION;VALUE=URI;X-ADDRESS=Capitol Hill Healthcare 520 S Hull Street Montgomery 36104 United States;X-APPLE-RADIUS=500;X-TITLE=520 S Hull Street:geo:-86.3039176,32.3713424
END:VEVENT
END:VCALENDAR