BEGIN:VCALENDAR
VERSION:2.0
PRODID:-//Capitol Hill Healthcare - ECPv6.15.20//NONSGML v1.0//EN
CALSCALE:GREGORIAN
METHOD:PUBLISH
X-WR-CALNAME:Capitol Hill Healthcare
X-ORIGINAL-URL:https://capitolhillcares.com
X-WR-CALDESC:Events for Capitol Hill Healthcare
REFRESH-INTERVAL;VALUE=DURATION:PT1H
X-Robots-Tag:noindex
X-PUBLISHED-TTL:PT1H
BEGIN:VTIMEZONE
TZID:America/Chicago
BEGIN:DAYLIGHT
TZOFFSETFROM:-0600
TZOFFSETTO:-0500
TZNAME:CDT
DTSTART:20270314T080000
END:DAYLIGHT
BEGIN:STANDARD
TZOFFSETFROM:-0500
TZOFFSETTO:-0600
TZNAME:CST
DTSTART:20271107T070000
END:STANDARD
BEGIN:DAYLIGHT
TZOFFSETFROM:-0600
TZOFFSETTO:-0500
TZNAME:CDT
DTSTART:20280312T080000
END:DAYLIGHT
BEGIN:STANDARD
TZOFFSETFROM:-0500
TZOFFSETTO:-0600
TZNAME:CST
DTSTART:20281105T070000
END:STANDARD
BEGIN:DAYLIGHT
TZOFFSETFROM:-0600
TZOFFSETTO:-0500
TZNAME:CDT
DTSTART:20290311T080000
END:DAYLIGHT
BEGIN:STANDARD
TZOFFSETFROM:-0500
TZOFFSETTO:-0600
TZNAME:CST
DTSTART:20291104T070000
END:STANDARD
END:VTIMEZONE
BEGIN:VEVENT
DTSTART;TZID=America/Chicago:20280502T140000
DTEND;TZID=America/Chicago:20280502T140000
DTSTAMP:20260420T134636
CREATED:20250902T191419Z
LAST-MODIFIED:20250902T210837Z
UID:10006546-1840888800-1840888800@capitolhillcares.com
SUMMARY:Bible Study with Minister Clint Walters
DESCRIPTION:
URL:https://capitolhillcares.com/activity/bible-study-with-minister-clint-j-walters-2-2-2/2028-05-02/
LOCATION:Capitol Hill Healthcare\, 520 S Hull Street\, Montgomery\, 36104\, United States
GEO:32.3713424;-86.3039176
X-APPLE-STRUCTURED-LOCATION;VALUE=URI;X-ADDRESS=Capitol Hill Healthcare 520 S Hull Street Montgomery 36104 United States;X-APPLE-RADIUS=500;X-TITLE=520 S Hull Street:geo:-86.3039176,32.3713424
END:VEVENT
BEGIN:VEVENT
DTSTART;TZID=America/Chicago:20280502T160000
DTEND;TZID=America/Chicago:20280502T160000
DTSTAMP:20260420T134636
CREATED:20251001T144949Z
LAST-MODIFIED:20251001T144949Z
UID:10010460-1840896000-1840896000@capitolhillcares.com
SUMMARY:Late Night Activity
DESCRIPTION:
URL:https://capitolhillcares.com/activity/bingo-5-2/2028-05-02/
LOCATION:Capitol Hill Healthcare\, 520 S Hull Street\, Montgomery\, 36104\, United States
GEO:32.3713424;-86.3039176
X-APPLE-STRUCTURED-LOCATION;VALUE=URI;X-ADDRESS=Capitol Hill Healthcare 520 S Hull Street Montgomery 36104 United States;X-APPLE-RADIUS=500;X-TITLE=520 S Hull Street:geo:-86.3039176,32.3713424
END:VEVENT
BEGIN:VEVENT
DTSTART;TZID=America/Chicago:20280507T130000
DTEND;TZID=America/Chicago:20280507T130000
DTSTAMP:20260420T134636
CREATED:20251001T152417Z
LAST-MODIFIED:20251001T152417Z
UID:10011208-1841317200-1841317200@capitolhillcares.com
SUMMARY:Gospel Explosion
DESCRIPTION:
URL:https://capitolhillcares.com/activity/gospel-explosion-3/2028-05-07/
LOCATION:Capitol Hill Healthcare\, 520 S Hull Street\, Montgomery\, 36104\, United States
GEO:32.3713424;-86.3039176
X-APPLE-STRUCTURED-LOCATION;VALUE=URI;X-ADDRESS=Capitol Hill Healthcare 520 S Hull Street Montgomery 36104 United States;X-APPLE-RADIUS=500;X-TITLE=520 S Hull Street:geo:-86.3039176,32.3713424
END:VEVENT
BEGIN:VEVENT
DTSTART;TZID=America/Chicago:20280509T140000
DTEND;TZID=America/Chicago:20280509T140000
DTSTAMP:20260420T134636
CREATED:20250902T191419Z
LAST-MODIFIED:20250902T210837Z
UID:10006547-1841493600-1841493600@capitolhillcares.com
SUMMARY:Bible Study with Minister Clint Walters
DESCRIPTION:
URL:https://capitolhillcares.com/activity/bible-study-with-minister-clint-j-walters-2-2-2/2028-05-09/
LOCATION:Capitol Hill Healthcare\, 520 S Hull Street\, Montgomery\, 36104\, United States
GEO:32.3713424;-86.3039176
X-APPLE-STRUCTURED-LOCATION;VALUE=URI;X-ADDRESS=Capitol Hill Healthcare 520 S Hull Street Montgomery 36104 United States;X-APPLE-RADIUS=500;X-TITLE=520 S Hull Street:geo:-86.3039176,32.3713424
END:VEVENT
BEGIN:VEVENT
DTSTART;TZID=America/Chicago:20280509T160000
DTEND;TZID=America/Chicago:20280509T160000
DTSTAMP:20260420T134636
CREATED:20251001T144949Z
LAST-MODIFIED:20251001T144949Z
UID:10010461-1841500800-1841500800@capitolhillcares.com
SUMMARY:Late Night Activity
DESCRIPTION:
URL:https://capitolhillcares.com/activity/bingo-5-2/2028-05-09/
LOCATION:Capitol Hill Healthcare\, 520 S Hull Street\, Montgomery\, 36104\, United States
GEO:32.3713424;-86.3039176
X-APPLE-STRUCTURED-LOCATION;VALUE=URI;X-ADDRESS=Capitol Hill Healthcare 520 S Hull Street Montgomery 36104 United States;X-APPLE-RADIUS=500;X-TITLE=520 S Hull Street:geo:-86.3039176,32.3713424
END:VEVENT
BEGIN:VEVENT
DTSTART;TZID=America/Chicago:20280514T130000
DTEND;TZID=America/Chicago:20280514T130000
DTSTAMP:20260420T134636
CREATED:20251001T152417Z
LAST-MODIFIED:20251001T152417Z
UID:10011209-1841922000-1841922000@capitolhillcares.com
SUMMARY:Gospel Explosion
DESCRIPTION:
URL:https://capitolhillcares.com/activity/gospel-explosion-3/2028-05-14/
LOCATION:Capitol Hill Healthcare\, 520 S Hull Street\, Montgomery\, 36104\, United States
GEO:32.3713424;-86.3039176
X-APPLE-STRUCTURED-LOCATION;VALUE=URI;X-ADDRESS=Capitol Hill Healthcare 520 S Hull Street Montgomery 36104 United States;X-APPLE-RADIUS=500;X-TITLE=520 S Hull Street:geo:-86.3039176,32.3713424
END:VEVENT
BEGIN:VEVENT
DTSTART;TZID=America/Chicago:20280516T140000
DTEND;TZID=America/Chicago:20280516T140000
DTSTAMP:20260420T134636
CREATED:20250902T191419Z
LAST-MODIFIED:20250902T210837Z
UID:10006548-1842098400-1842098400@capitolhillcares.com
SUMMARY:Bible Study with Minister Clint Walters
DESCRIPTION:
URL:https://capitolhillcares.com/activity/bible-study-with-minister-clint-j-walters-2-2-2/2028-05-16/
LOCATION:Capitol Hill Healthcare\, 520 S Hull Street\, Montgomery\, 36104\, United States
GEO:32.3713424;-86.3039176
X-APPLE-STRUCTURED-LOCATION;VALUE=URI;X-ADDRESS=Capitol Hill Healthcare 520 S Hull Street Montgomery 36104 United States;X-APPLE-RADIUS=500;X-TITLE=520 S Hull Street:geo:-86.3039176,32.3713424
END:VEVENT
BEGIN:VEVENT
DTSTART;TZID=America/Chicago:20280516T160000
DTEND;TZID=America/Chicago:20280516T160000
DTSTAMP:20260420T134636
CREATED:20251001T144949Z
LAST-MODIFIED:20251001T144949Z
UID:10010462-1842105600-1842105600@capitolhillcares.com
SUMMARY:Late Night Activity
DESCRIPTION:
URL:https://capitolhillcares.com/activity/bingo-5-2/2028-05-16/
LOCATION:Capitol Hill Healthcare\, 520 S Hull Street\, Montgomery\, 36104\, United States
GEO:32.3713424;-86.3039176
X-APPLE-STRUCTURED-LOCATION;VALUE=URI;X-ADDRESS=Capitol Hill Healthcare 520 S Hull Street Montgomery 36104 United States;X-APPLE-RADIUS=500;X-TITLE=520 S Hull Street:geo:-86.3039176,32.3713424
END:VEVENT
BEGIN:VEVENT
DTSTART;TZID=America/Chicago:20280521T130000
DTEND;TZID=America/Chicago:20280521T130000
DTSTAMP:20260420T134636
CREATED:20251001T152417Z
LAST-MODIFIED:20251001T152417Z
UID:10011210-1842526800-1842526800@capitolhillcares.com
SUMMARY:Gospel Explosion
DESCRIPTION:
URL:https://capitolhillcares.com/activity/gospel-explosion-3/2028-05-21/
LOCATION:Capitol Hill Healthcare\, 520 S Hull Street\, Montgomery\, 36104\, United States
GEO:32.3713424;-86.3039176
X-APPLE-STRUCTURED-LOCATION;VALUE=URI;X-ADDRESS=Capitol Hill Healthcare 520 S Hull Street Montgomery 36104 United States;X-APPLE-RADIUS=500;X-TITLE=520 S Hull Street:geo:-86.3039176,32.3713424
END:VEVENT
BEGIN:VEVENT
DTSTART;TZID=America/Chicago:20280523T140000
DTEND;TZID=America/Chicago:20280523T140000
DTSTAMP:20260420T134636
CREATED:20250902T191419Z
LAST-MODIFIED:20250902T210837Z
UID:10006549-1842703200-1842703200@capitolhillcares.com
SUMMARY:Bible Study with Minister Clint Walters
DESCRIPTION:
URL:https://capitolhillcares.com/activity/bible-study-with-minister-clint-j-walters-2-2-2/2028-05-23/
LOCATION:Capitol Hill Healthcare\, 520 S Hull Street\, Montgomery\, 36104\, United States
GEO:32.3713424;-86.3039176
X-APPLE-STRUCTURED-LOCATION;VALUE=URI;X-ADDRESS=Capitol Hill Healthcare 520 S Hull Street Montgomery 36104 United States;X-APPLE-RADIUS=500;X-TITLE=520 S Hull Street:geo:-86.3039176,32.3713424
END:VEVENT
BEGIN:VEVENT
DTSTART;TZID=America/Chicago:20280523T160000
DTEND;TZID=America/Chicago:20280523T160000
DTSTAMP:20260420T134636
CREATED:20251001T144949Z
LAST-MODIFIED:20251001T144949Z
UID:10010463-1842710400-1842710400@capitolhillcares.com
SUMMARY:Late Night Activity
DESCRIPTION:
URL:https://capitolhillcares.com/activity/bingo-5-2/2028-05-23/
LOCATION:Capitol Hill Healthcare\, 520 S Hull Street\, Montgomery\, 36104\, United States
GEO:32.3713424;-86.3039176
X-APPLE-STRUCTURED-LOCATION;VALUE=URI;X-ADDRESS=Capitol Hill Healthcare 520 S Hull Street Montgomery 36104 United States;X-APPLE-RADIUS=500;X-TITLE=520 S Hull Street:geo:-86.3039176,32.3713424
END:VEVENT
BEGIN:VEVENT
DTSTART;TZID=America/Chicago:20280528T130000
DTEND;TZID=America/Chicago:20280528T130000
DTSTAMP:20260420T134636
CREATED:20251001T152417Z
LAST-MODIFIED:20251001T152417Z
UID:10011211-1843131600-1843131600@capitolhillcares.com
SUMMARY:Gospel Explosion
DESCRIPTION:
URL:https://capitolhillcares.com/activity/gospel-explosion-3/2028-05-28/
LOCATION:Capitol Hill Healthcare\, 520 S Hull Street\, Montgomery\, 36104\, United States
GEO:32.3713424;-86.3039176
X-APPLE-STRUCTURED-LOCATION;VALUE=URI;X-ADDRESS=Capitol Hill Healthcare 520 S Hull Street Montgomery 36104 United States;X-APPLE-RADIUS=500;X-TITLE=520 S Hull Street:geo:-86.3039176,32.3713424
END:VEVENT
BEGIN:VEVENT
DTSTART;TZID=America/Chicago:20280530T140000
DTEND;TZID=America/Chicago:20280530T140000
DTSTAMP:20260420T134636
CREATED:20250903T192147Z
LAST-MODIFIED:20250903T192147Z
UID:10008597-1843308000-1843308000@capitolhillcares.com
SUMMARY:Resident Council Meeting
DESCRIPTION:
URL:https://capitolhillcares.com/activity/resident-council-meeting-3-2/2028-05-30/
LOCATION:Capitol Hill Healthcare\, 520 S Hull Street\, Montgomery\, 36104\, United States
GEO:32.3713424;-86.3039176
X-APPLE-STRUCTURED-LOCATION;VALUE=URI;X-ADDRESS=Capitol Hill Healthcare 520 S Hull Street Montgomery 36104 United States;X-APPLE-RADIUS=500;X-TITLE=520 S Hull Street:geo:-86.3039176,32.3713424
END:VEVENT
BEGIN:VEVENT
DTSTART;TZID=America/Chicago:20280530T160000
DTEND;TZID=America/Chicago:20280530T160000
DTSTAMP:20260420T134637
CREATED:20251001T144949Z
LAST-MODIFIED:20251001T144949Z
UID:10010464-1843315200-1843315200@capitolhillcares.com
SUMMARY:Late Night Activity
DESCRIPTION:
URL:https://capitolhillcares.com/activity/bingo-5-2/2028-05-30/
LOCATION:Capitol Hill Healthcare\, 520 S Hull Street\, Montgomery\, 36104\, United States
GEO:32.3713424;-86.3039176
X-APPLE-STRUCTURED-LOCATION;VALUE=URI;X-ADDRESS=Capitol Hill Healthcare 520 S Hull Street Montgomery 36104 United States;X-APPLE-RADIUS=500;X-TITLE=520 S Hull Street:geo:-86.3039176,32.3713424
END:VEVENT
END:VCALENDAR