BEGIN:VCALENDAR
VERSION:2.0
PRODID:-//Capitol Hill Healthcare - ECPv6.15.20//NONSGML v1.0//EN
CALSCALE:GREGORIAN
METHOD:PUBLISH
X-WR-CALNAME:Capitol Hill Healthcare
X-ORIGINAL-URL:https://capitolhillcares.com
X-WR-CALDESC:Events for Capitol Hill Healthcare
REFRESH-INTERVAL;VALUE=DURATION:PT1H
X-Robots-Tag:noindex
X-PUBLISHED-TTL:PT1H
BEGIN:VTIMEZONE
TZID:America/Chicago
BEGIN:DAYLIGHT
TZOFFSETFROM:-0600
TZOFFSETTO:-0500
TZNAME:CDT
DTSTART:20260308T080000
END:DAYLIGHT
BEGIN:STANDARD
TZOFFSETFROM:-0500
TZOFFSETTO:-0600
TZNAME:CST
DTSTART:20261101T070000
END:STANDARD
BEGIN:DAYLIGHT
TZOFFSETFROM:-0600
TZOFFSETTO:-0500
TZNAME:CDT
DTSTART:20270314T080000
END:DAYLIGHT
BEGIN:STANDARD
TZOFFSETFROM:-0500
TZOFFSETTO:-0600
TZNAME:CST
DTSTART:20271107T070000
END:STANDARD
BEGIN:DAYLIGHT
TZOFFSETFROM:-0600
TZOFFSETTO:-0500
TZNAME:CDT
DTSTART:20280312T080000
END:DAYLIGHT
BEGIN:STANDARD
TZOFFSETFROM:-0500
TZOFFSETTO:-0600
TZNAME:CST
DTSTART:20281105T070000
END:STANDARD
END:VTIMEZONE
BEGIN:VEVENT
DTSTART;TZID=America/Chicago:20270601T140000
DTEND;TZID=America/Chicago:20270601T140000
DTSTAMP:20260419T184926
CREATED:20250902T191419Z
LAST-MODIFIED:20250902T210837Z
UID:10006509-1811858400-1811858400@capitolhillcares.com
SUMMARY:Bible Study with Minister Clint Walters
DESCRIPTION:
URL:https://capitolhillcares.com/activity/bible-study-with-minister-clint-j-walters-2-2-2/2027-06-01/
LOCATION:Capitol Hill Healthcare\, 520 S Hull Street\, Montgomery\, 36104\, United States
GEO:32.3713424;-86.3039176
X-APPLE-STRUCTURED-LOCATION;VALUE=URI;X-ADDRESS=Capitol Hill Healthcare 520 S Hull Street Montgomery 36104 United States;X-APPLE-RADIUS=500;X-TITLE=520 S Hull Street:geo:-86.3039176,32.3713424
END:VEVENT
BEGIN:VEVENT
DTSTART;TZID=America/Chicago:20270601T160000
DTEND;TZID=America/Chicago:20270601T160000
DTSTAMP:20260419T184926
CREATED:20251001T144949Z
LAST-MODIFIED:20251001T144949Z
UID:10010412-1811865600-1811865600@capitolhillcares.com
SUMMARY:Late Night Activity
DESCRIPTION:
URL:https://capitolhillcares.com/activity/bingo-5-2/2027-06-01/
LOCATION:Capitol Hill Healthcare\, 520 S Hull Street\, Montgomery\, 36104\, United States
GEO:32.3713424;-86.3039176
X-APPLE-STRUCTURED-LOCATION;VALUE=URI;X-ADDRESS=Capitol Hill Healthcare 520 S Hull Street Montgomery 36104 United States;X-APPLE-RADIUS=500;X-TITLE=520 S Hull Street:geo:-86.3039176,32.3713424
END:VEVENT
BEGIN:VEVENT
DTSTART;TZID=America/Chicago:20270606T130000
DTEND;TZID=America/Chicago:20270606T130000
DTSTAMP:20260419T184926
CREATED:20251001T152417Z
LAST-MODIFIED:20251001T152417Z
UID:10011160-1812286800-1812286800@capitolhillcares.com
SUMMARY:Gospel Explosion
DESCRIPTION:
URL:https://capitolhillcares.com/activity/gospel-explosion-3/2027-06-06/
LOCATION:Capitol Hill Healthcare\, 520 S Hull Street\, Montgomery\, 36104\, United States
GEO:32.3713424;-86.3039176
X-APPLE-STRUCTURED-LOCATION;VALUE=URI;X-ADDRESS=Capitol Hill Healthcare 520 S Hull Street Montgomery 36104 United States;X-APPLE-RADIUS=500;X-TITLE=520 S Hull Street:geo:-86.3039176,32.3713424
END:VEVENT
BEGIN:VEVENT
DTSTART;TZID=America/Chicago:20270608T140000
DTEND;TZID=America/Chicago:20270608T140000
DTSTAMP:20260419T184926
CREATED:20250902T191419Z
LAST-MODIFIED:20250902T210837Z
UID:10006510-1812463200-1812463200@capitolhillcares.com
SUMMARY:Bible Study with Minister Clint Walters
DESCRIPTION:
URL:https://capitolhillcares.com/activity/bible-study-with-minister-clint-j-walters-2-2-2/2027-06-08/
LOCATION:Capitol Hill Healthcare\, 520 S Hull Street\, Montgomery\, 36104\, United States
GEO:32.3713424;-86.3039176
X-APPLE-STRUCTURED-LOCATION;VALUE=URI;X-ADDRESS=Capitol Hill Healthcare 520 S Hull Street Montgomery 36104 United States;X-APPLE-RADIUS=500;X-TITLE=520 S Hull Street:geo:-86.3039176,32.3713424
END:VEVENT
BEGIN:VEVENT
DTSTART;TZID=America/Chicago:20270608T160000
DTEND;TZID=America/Chicago:20270608T160000
DTSTAMP:20260419T184926
CREATED:20251001T144949Z
LAST-MODIFIED:20251001T144949Z
UID:10010413-1812470400-1812470400@capitolhillcares.com
SUMMARY:Late Night Activity
DESCRIPTION:
URL:https://capitolhillcares.com/activity/bingo-5-2/2027-06-08/
LOCATION:Capitol Hill Healthcare\, 520 S Hull Street\, Montgomery\, 36104\, United States
GEO:32.3713424;-86.3039176
X-APPLE-STRUCTURED-LOCATION;VALUE=URI;X-ADDRESS=Capitol Hill Healthcare 520 S Hull Street Montgomery 36104 United States;X-APPLE-RADIUS=500;X-TITLE=520 S Hull Street:geo:-86.3039176,32.3713424
END:VEVENT
BEGIN:VEVENT
DTSTART;TZID=America/Chicago:20270613T130000
DTEND;TZID=America/Chicago:20270613T130000
DTSTAMP:20260419T184926
CREATED:20251001T152417Z
LAST-MODIFIED:20251001T152417Z
UID:10011161-1812891600-1812891600@capitolhillcares.com
SUMMARY:Gospel Explosion
DESCRIPTION:
URL:https://capitolhillcares.com/activity/gospel-explosion-3/2027-06-13/
LOCATION:Capitol Hill Healthcare\, 520 S Hull Street\, Montgomery\, 36104\, United States
GEO:32.3713424;-86.3039176
X-APPLE-STRUCTURED-LOCATION;VALUE=URI;X-ADDRESS=Capitol Hill Healthcare 520 S Hull Street Montgomery 36104 United States;X-APPLE-RADIUS=500;X-TITLE=520 S Hull Street:geo:-86.3039176,32.3713424
END:VEVENT
BEGIN:VEVENT
DTSTART;TZID=America/Chicago:20270615T140000
DTEND;TZID=America/Chicago:20270615T140000
DTSTAMP:20260419T184926
CREATED:20250902T191419Z
LAST-MODIFIED:20250902T210837Z
UID:10006511-1813068000-1813068000@capitolhillcares.com
SUMMARY:Bible Study with Minister Clint Walters
DESCRIPTION:
URL:https://capitolhillcares.com/activity/bible-study-with-minister-clint-j-walters-2-2-2/2027-06-15/
LOCATION:Capitol Hill Healthcare\, 520 S Hull Street\, Montgomery\, 36104\, United States
GEO:32.3713424;-86.3039176
X-APPLE-STRUCTURED-LOCATION;VALUE=URI;X-ADDRESS=Capitol Hill Healthcare 520 S Hull Street Montgomery 36104 United States;X-APPLE-RADIUS=500;X-TITLE=520 S Hull Street:geo:-86.3039176,32.3713424
END:VEVENT
BEGIN:VEVENT
DTSTART;TZID=America/Chicago:20270615T160000
DTEND;TZID=America/Chicago:20270615T160000
DTSTAMP:20260419T184926
CREATED:20251001T144949Z
LAST-MODIFIED:20251001T144949Z
UID:10010414-1813075200-1813075200@capitolhillcares.com
SUMMARY:Late Night Activity
DESCRIPTION:
URL:https://capitolhillcares.com/activity/bingo-5-2/2027-06-15/
LOCATION:Capitol Hill Healthcare\, 520 S Hull Street\, Montgomery\, 36104\, United States
GEO:32.3713424;-86.3039176
X-APPLE-STRUCTURED-LOCATION;VALUE=URI;X-ADDRESS=Capitol Hill Healthcare 520 S Hull Street Montgomery 36104 United States;X-APPLE-RADIUS=500;X-TITLE=520 S Hull Street:geo:-86.3039176,32.3713424
END:VEVENT
BEGIN:VEVENT
DTSTART;TZID=America/Chicago:20270620T130000
DTEND;TZID=America/Chicago:20270620T130000
DTSTAMP:20260419T184926
CREATED:20251001T152417Z
LAST-MODIFIED:20251001T152417Z
UID:10011162-1813496400-1813496400@capitolhillcares.com
SUMMARY:Gospel Explosion
DESCRIPTION:
URL:https://capitolhillcares.com/activity/gospel-explosion-3/2027-06-20/
LOCATION:Capitol Hill Healthcare\, 520 S Hull Street\, Montgomery\, 36104\, United States
GEO:32.3713424;-86.3039176
X-APPLE-STRUCTURED-LOCATION;VALUE=URI;X-ADDRESS=Capitol Hill Healthcare 520 S Hull Street Montgomery 36104 United States;X-APPLE-RADIUS=500;X-TITLE=520 S Hull Street:geo:-86.3039176,32.3713424
END:VEVENT
BEGIN:VEVENT
DTSTART;TZID=America/Chicago:20270622T140000
DTEND;TZID=America/Chicago:20270622T140000
DTSTAMP:20260419T184926
CREATED:20250902T191419Z
LAST-MODIFIED:20250902T210837Z
UID:10006512-1813672800-1813672800@capitolhillcares.com
SUMMARY:Bible Study with Minister Clint Walters
DESCRIPTION:
URL:https://capitolhillcares.com/activity/bible-study-with-minister-clint-j-walters-2-2-2/2027-06-22/
LOCATION:Capitol Hill Healthcare\, 520 S Hull Street\, Montgomery\, 36104\, United States
GEO:32.3713424;-86.3039176
X-APPLE-STRUCTURED-LOCATION;VALUE=URI;X-ADDRESS=Capitol Hill Healthcare 520 S Hull Street Montgomery 36104 United States;X-APPLE-RADIUS=500;X-TITLE=520 S Hull Street:geo:-86.3039176,32.3713424
END:VEVENT
BEGIN:VEVENT
DTSTART;TZID=America/Chicago:20270622T160000
DTEND;TZID=America/Chicago:20270622T160000
DTSTAMP:20260419T184926
CREATED:20251001T144949Z
LAST-MODIFIED:20251001T144949Z
UID:10010415-1813680000-1813680000@capitolhillcares.com
SUMMARY:Late Night Activity
DESCRIPTION:
URL:https://capitolhillcares.com/activity/bingo-5-2/2027-06-22/
LOCATION:Capitol Hill Healthcare\, 520 S Hull Street\, Montgomery\, 36104\, United States
GEO:32.3713424;-86.3039176
X-APPLE-STRUCTURED-LOCATION;VALUE=URI;X-ADDRESS=Capitol Hill Healthcare 520 S Hull Street Montgomery 36104 United States;X-APPLE-RADIUS=500;X-TITLE=520 S Hull Street:geo:-86.3039176,32.3713424
END:VEVENT
BEGIN:VEVENT
DTSTART;TZID=America/Chicago:20270627T130000
DTEND;TZID=America/Chicago:20270627T130000
DTSTAMP:20260419T184926
CREATED:20251001T152417Z
LAST-MODIFIED:20251001T152417Z
UID:10011163-1814101200-1814101200@capitolhillcares.com
SUMMARY:Gospel Explosion
DESCRIPTION:
URL:https://capitolhillcares.com/activity/gospel-explosion-3/2027-06-27/
LOCATION:Capitol Hill Healthcare\, 520 S Hull Street\, Montgomery\, 36104\, United States
GEO:32.3713424;-86.3039176
X-APPLE-STRUCTURED-LOCATION;VALUE=URI;X-ADDRESS=Capitol Hill Healthcare 520 S Hull Street Montgomery 36104 United States;X-APPLE-RADIUS=500;X-TITLE=520 S Hull Street:geo:-86.3039176,32.3713424
END:VEVENT
BEGIN:VEVENT
DTSTART;TZID=America/Chicago:20270629T140000
DTEND;TZID=America/Chicago:20270629T140000
DTSTAMP:20260419T184926
CREATED:20250903T192147Z
LAST-MODIFIED:20250903T192147Z
UID:10008586-1814277600-1814277600@capitolhillcares.com
SUMMARY:Resident Council Meeting
DESCRIPTION:
URL:https://capitolhillcares.com/activity/resident-council-meeting-3-2/2027-06-29/
LOCATION:Capitol Hill Healthcare\, 520 S Hull Street\, Montgomery\, 36104\, United States
GEO:32.3713424;-86.3039176
X-APPLE-STRUCTURED-LOCATION;VALUE=URI;X-ADDRESS=Capitol Hill Healthcare 520 S Hull Street Montgomery 36104 United States;X-APPLE-RADIUS=500;X-TITLE=520 S Hull Street:geo:-86.3039176,32.3713424
END:VEVENT
BEGIN:VEVENT
DTSTART;TZID=America/Chicago:20270629T160000
DTEND;TZID=America/Chicago:20270629T160000
DTSTAMP:20260419T184926
CREATED:20251001T144949Z
LAST-MODIFIED:20251001T144949Z
UID:10010416-1814284800-1814284800@capitolhillcares.com
SUMMARY:Late Night Activity
DESCRIPTION:
URL:https://capitolhillcares.com/activity/bingo-5-2/2027-06-29/
LOCATION:Capitol Hill Healthcare\, 520 S Hull Street\, Montgomery\, 36104\, United States
GEO:32.3713424;-86.3039176
X-APPLE-STRUCTURED-LOCATION;VALUE=URI;X-ADDRESS=Capitol Hill Healthcare 520 S Hull Street Montgomery 36104 United States;X-APPLE-RADIUS=500;X-TITLE=520 S Hull Street:geo:-86.3039176,32.3713424
END:VEVENT
END:VCALENDAR