BEGIN:VCALENDAR
VERSION:2.0
PRODID:-//Capitol Hill Healthcare - ECPv6.15.20//NONSGML v1.0//EN
CALSCALE:GREGORIAN
METHOD:PUBLISH
X-WR-CALNAME:Capitol Hill Healthcare
X-ORIGINAL-URL:https://capitolhillcares.com
X-WR-CALDESC:Events for Capitol Hill Healthcare
REFRESH-INTERVAL;VALUE=DURATION:PT1H
X-Robots-Tag:noindex
X-PUBLISHED-TTL:PT1H
BEGIN:VTIMEZONE
TZID:America/Chicago
BEGIN:DAYLIGHT
TZOFFSETFROM:-0600
TZOFFSETTO:-0500
TZNAME:CDT
DTSTART:20260308T080000
END:DAYLIGHT
BEGIN:STANDARD
TZOFFSETFROM:-0500
TZOFFSETTO:-0600
TZNAME:CST
DTSTART:20261101T070000
END:STANDARD
BEGIN:DAYLIGHT
TZOFFSETFROM:-0600
TZOFFSETTO:-0500
TZNAME:CDT
DTSTART:20270314T080000
END:DAYLIGHT
BEGIN:STANDARD
TZOFFSETFROM:-0500
TZOFFSETTO:-0600
TZNAME:CST
DTSTART:20271107T070000
END:STANDARD
BEGIN:DAYLIGHT
TZOFFSETFROM:-0600
TZOFFSETTO:-0500
TZNAME:CDT
DTSTART:20280312T080000
END:DAYLIGHT
BEGIN:STANDARD
TZOFFSETFROM:-0500
TZOFFSETTO:-0600
TZNAME:CST
DTSTART:20281105T070000
END:STANDARD
END:VTIMEZONE
BEGIN:VEVENT
DTSTART;TZID=America/Chicago:20270404T130000
DTEND;TZID=America/Chicago:20270404T130000
DTSTAMP:20260419T152016
CREATED:20251001T152417Z
LAST-MODIFIED:20251001T152417Z
UID:10011151-1806843600-1806843600@capitolhillcares.com
SUMMARY:Gospel Explosion
DESCRIPTION:
URL:https://capitolhillcares.com/activity/gospel-explosion-3/2027-04-04/
LOCATION:Capitol Hill Healthcare\, 520 S Hull Street\, Montgomery\, 36104\, United States
GEO:32.3713424;-86.3039176
X-APPLE-STRUCTURED-LOCATION;VALUE=URI;X-ADDRESS=Capitol Hill Healthcare 520 S Hull Street Montgomery 36104 United States;X-APPLE-RADIUS=500;X-TITLE=520 S Hull Street:geo:-86.3039176,32.3713424
END:VEVENT
BEGIN:VEVENT
DTSTART;TZID=America/Chicago:20270406T140000
DTEND;TZID=America/Chicago:20270406T140000
DTSTAMP:20260419T152016
CREATED:20250902T191419Z
LAST-MODIFIED:20250902T210837Z
UID:10006503-1807020000-1807020000@capitolhillcares.com
SUMMARY:Bible Study with Minister Clint Walters
DESCRIPTION:
URL:https://capitolhillcares.com/activity/bible-study-with-minister-clint-j-walters-2-2-2/2027-04-06/
LOCATION:Capitol Hill Healthcare\, 520 S Hull Street\, Montgomery\, 36104\, United States
GEO:32.3713424;-86.3039176
X-APPLE-STRUCTURED-LOCATION;VALUE=URI;X-ADDRESS=Capitol Hill Healthcare 520 S Hull Street Montgomery 36104 United States;X-APPLE-RADIUS=500;X-TITLE=520 S Hull Street:geo:-86.3039176,32.3713424
END:VEVENT
BEGIN:VEVENT
DTSTART;TZID=America/Chicago:20270406T160000
DTEND;TZID=America/Chicago:20270406T160000
DTSTAMP:20260419T152016
CREATED:20251001T144949Z
LAST-MODIFIED:20251001T144949Z
UID:10010404-1807027200-1807027200@capitolhillcares.com
SUMMARY:Late Night Activity
DESCRIPTION:
URL:https://capitolhillcares.com/activity/bingo-5-2/2027-04-06/
LOCATION:Capitol Hill Healthcare\, 520 S Hull Street\, Montgomery\, 36104\, United States
GEO:32.3713424;-86.3039176
X-APPLE-STRUCTURED-LOCATION;VALUE=URI;X-ADDRESS=Capitol Hill Healthcare 520 S Hull Street Montgomery 36104 United States;X-APPLE-RADIUS=500;X-TITLE=520 S Hull Street:geo:-86.3039176,32.3713424
END:VEVENT
BEGIN:VEVENT
DTSTART;TZID=America/Chicago:20270411T130000
DTEND;TZID=America/Chicago:20270411T130000
DTSTAMP:20260419T152016
CREATED:20251001T152417Z
LAST-MODIFIED:20251001T152417Z
UID:10011152-1807448400-1807448400@capitolhillcares.com
SUMMARY:Gospel Explosion
DESCRIPTION:
URL:https://capitolhillcares.com/activity/gospel-explosion-3/2027-04-11/
LOCATION:Capitol Hill Healthcare\, 520 S Hull Street\, Montgomery\, 36104\, United States
GEO:32.3713424;-86.3039176
X-APPLE-STRUCTURED-LOCATION;VALUE=URI;X-ADDRESS=Capitol Hill Healthcare 520 S Hull Street Montgomery 36104 United States;X-APPLE-RADIUS=500;X-TITLE=520 S Hull Street:geo:-86.3039176,32.3713424
END:VEVENT
BEGIN:VEVENT
DTSTART;TZID=America/Chicago:20270413T140000
DTEND;TZID=America/Chicago:20270413T140000
DTSTAMP:20260419T152016
CREATED:20250902T191419Z
LAST-MODIFIED:20250902T210837Z
UID:10006504-1807624800-1807624800@capitolhillcares.com
SUMMARY:Bible Study with Minister Clint Walters
DESCRIPTION:
URL:https://capitolhillcares.com/activity/bible-study-with-minister-clint-j-walters-2-2-2/2027-04-13/
LOCATION:Capitol Hill Healthcare\, 520 S Hull Street\, Montgomery\, 36104\, United States
GEO:32.3713424;-86.3039176
X-APPLE-STRUCTURED-LOCATION;VALUE=URI;X-ADDRESS=Capitol Hill Healthcare 520 S Hull Street Montgomery 36104 United States;X-APPLE-RADIUS=500;X-TITLE=520 S Hull Street:geo:-86.3039176,32.3713424
END:VEVENT
BEGIN:VEVENT
DTSTART;TZID=America/Chicago:20270413T160000
DTEND;TZID=America/Chicago:20270413T160000
DTSTAMP:20260419T152016
CREATED:20251001T144949Z
LAST-MODIFIED:20251001T144949Z
UID:10010405-1807632000-1807632000@capitolhillcares.com
SUMMARY:Late Night Activity
DESCRIPTION:
URL:https://capitolhillcares.com/activity/bingo-5-2/2027-04-13/
LOCATION:Capitol Hill Healthcare\, 520 S Hull Street\, Montgomery\, 36104\, United States
GEO:32.3713424;-86.3039176
X-APPLE-STRUCTURED-LOCATION;VALUE=URI;X-ADDRESS=Capitol Hill Healthcare 520 S Hull Street Montgomery 36104 United States;X-APPLE-RADIUS=500;X-TITLE=520 S Hull Street:geo:-86.3039176,32.3713424
END:VEVENT
BEGIN:VEVENT
DTSTART;TZID=America/Chicago:20270418T130000
DTEND;TZID=America/Chicago:20270418T130000
DTSTAMP:20260419T152016
CREATED:20251001T152417Z
LAST-MODIFIED:20251001T152417Z
UID:10011153-1808053200-1808053200@capitolhillcares.com
SUMMARY:Gospel Explosion
DESCRIPTION:
URL:https://capitolhillcares.com/activity/gospel-explosion-3/2027-04-18/
LOCATION:Capitol Hill Healthcare\, 520 S Hull Street\, Montgomery\, 36104\, United States
GEO:32.3713424;-86.3039176
X-APPLE-STRUCTURED-LOCATION;VALUE=URI;X-ADDRESS=Capitol Hill Healthcare 520 S Hull Street Montgomery 36104 United States;X-APPLE-RADIUS=500;X-TITLE=520 S Hull Street:geo:-86.3039176,32.3713424
END:VEVENT
BEGIN:VEVENT
DTSTART;TZID=America/Chicago:20270420T140000
DTEND;TZID=America/Chicago:20270420T140000
DTSTAMP:20260419T152016
CREATED:20250902T191419Z
LAST-MODIFIED:20250902T210837Z
UID:10006505-1808229600-1808229600@capitolhillcares.com
SUMMARY:Bible Study with Minister Clint Walters
DESCRIPTION:
URL:https://capitolhillcares.com/activity/bible-study-with-minister-clint-j-walters-2-2-2/2027-04-20/
LOCATION:Capitol Hill Healthcare\, 520 S Hull Street\, Montgomery\, 36104\, United States
GEO:32.3713424;-86.3039176
X-APPLE-STRUCTURED-LOCATION;VALUE=URI;X-ADDRESS=Capitol Hill Healthcare 520 S Hull Street Montgomery 36104 United States;X-APPLE-RADIUS=500;X-TITLE=520 S Hull Street:geo:-86.3039176,32.3713424
END:VEVENT
BEGIN:VEVENT
DTSTART;TZID=America/Chicago:20270420T160000
DTEND;TZID=America/Chicago:20270420T160000
DTSTAMP:20260419T152016
CREATED:20251001T144949Z
LAST-MODIFIED:20251001T144949Z
UID:10010406-1808236800-1808236800@capitolhillcares.com
SUMMARY:Late Night Activity
DESCRIPTION:
URL:https://capitolhillcares.com/activity/bingo-5-2/2027-04-20/
LOCATION:Capitol Hill Healthcare\, 520 S Hull Street\, Montgomery\, 36104\, United States
GEO:32.3713424;-86.3039176
X-APPLE-STRUCTURED-LOCATION;VALUE=URI;X-ADDRESS=Capitol Hill Healthcare 520 S Hull Street Montgomery 36104 United States;X-APPLE-RADIUS=500;X-TITLE=520 S Hull Street:geo:-86.3039176,32.3713424
END:VEVENT
BEGIN:VEVENT
DTSTART;TZID=America/Chicago:20270425T130000
DTEND;TZID=America/Chicago:20270425T130000
DTSTAMP:20260419T152016
CREATED:20251001T152417Z
LAST-MODIFIED:20251001T152417Z
UID:10011154-1808658000-1808658000@capitolhillcares.com
SUMMARY:Gospel Explosion
DESCRIPTION:
URL:https://capitolhillcares.com/activity/gospel-explosion-3/2027-04-25/
LOCATION:Capitol Hill Healthcare\, 520 S Hull Street\, Montgomery\, 36104\, United States
GEO:32.3713424;-86.3039176
X-APPLE-STRUCTURED-LOCATION;VALUE=URI;X-ADDRESS=Capitol Hill Healthcare 520 S Hull Street Montgomery 36104 United States;X-APPLE-RADIUS=500;X-TITLE=520 S Hull Street:geo:-86.3039176,32.3713424
END:VEVENT
BEGIN:VEVENT
DTSTART;TZID=America/Chicago:20270427T140000
DTEND;TZID=America/Chicago:20270427T140000
DTSTAMP:20260419T152016
CREATED:20250903T192147Z
LAST-MODIFIED:20250903T192147Z
UID:10008584-1808834400-1808834400@capitolhillcares.com
SUMMARY:Resident Council Meeting
DESCRIPTION:
URL:https://capitolhillcares.com/activity/resident-council-meeting-3-2/2027-04-27/
LOCATION:Capitol Hill Healthcare\, 520 S Hull Street\, Montgomery\, 36104\, United States
GEO:32.3713424;-86.3039176
X-APPLE-STRUCTURED-LOCATION;VALUE=URI;X-ADDRESS=Capitol Hill Healthcare 520 S Hull Street Montgomery 36104 United States;X-APPLE-RADIUS=500;X-TITLE=520 S Hull Street:geo:-86.3039176,32.3713424
END:VEVENT
BEGIN:VEVENT
DTSTART;TZID=America/Chicago:20270427T160000
DTEND;TZID=America/Chicago:20270427T160000
DTSTAMP:20260419T152016
CREATED:20251001T144949Z
LAST-MODIFIED:20251001T144949Z
UID:10010407-1808841600-1808841600@capitolhillcares.com
SUMMARY:Late Night Activity
DESCRIPTION:
URL:https://capitolhillcares.com/activity/bingo-5-2/2027-04-27/
LOCATION:Capitol Hill Healthcare\, 520 S Hull Street\, Montgomery\, 36104\, United States
GEO:32.3713424;-86.3039176
X-APPLE-STRUCTURED-LOCATION;VALUE=URI;X-ADDRESS=Capitol Hill Healthcare 520 S Hull Street Montgomery 36104 United States;X-APPLE-RADIUS=500;X-TITLE=520 S Hull Street:geo:-86.3039176,32.3713424
END:VEVENT
END:VCALENDAR